BEGIN:VCALENDAR
VERSION:2.0
PRODID:-//Library Market//iCal Export//EN
BEGIN:VEVENT
SUMMARY:Read to a Dog
UID:36898
DTSTAMP:20260423T214600Z
DTSTART:20260627T193000Z
DTEND:20260627T194500Z
LOCATION:Verona Public Library, 500 Silent St., Verona, WI 53593, United S
 tates
ROOM: Story Time Room
DESCRIPTION:
URL:https://verona.librarycalendar.com/event/read-dog-36898
END:VEVENT
END:VCALENDAR
