BEGIN:VCALENDAR
VERSION:2.0
PRODID:-//Library Market//iCal Export//EN
BEGIN:VEVENT
SUMMARY:Read to a Dog
UID:36887
DTSTAMP:20260424T040200Z
DTSTART:20260620T163000Z
DTEND:20260620T164500Z
LOCATION:Verona Public Library, 500 Silent St., Verona, WI 53593, United S
 tates
ROOM: Story Time Room
DESCRIPTION:
URL:https://verona.librarycalendar.com/event/read-dog-36887
END:VEVENT
END:VCALENDAR
