BEGIN:VCALENDAR
VERSION:2.0
PRODID:-//Library Market//iCal Export//EN
BEGIN:VEVENT
SUMMARY:Read to a Dog
UID:36885
DTSTAMP:20260424T040200Z
DTSTART:20260620T160000Z
DTEND:20260620T161500Z
LOCATION:Verona Public Library, 500 Silent St., Verona, WI 53593, United S
 tates
ROOM: Story Time Room
DESCRIPTION:
URL:https://verona.librarycalendar.com/event/read-dog-36885
END:VEVENT
END:VCALENDAR
