BEGIN:VCALENDAR
VERSION:2.0
PRODID:-//Library Market//iCal Export//EN
BEGIN:VEVENT
SUMMARY:Read to a Dog
UID:36881
DTSTAMP:20260423T234500Z
DTSTART:20260611T201500Z
DTEND:20260611T203000Z
LOCATION:Verona Public Library, 500 Silent St., Verona, WI 53593, United S
 tates
ROOM: Story Time Room
DESCRIPTION:
URL:https://verona.librarycalendar.com/event/read-dog-36881
END:VEVENT
END:VCALENDAR
