BEGIN:VCALENDAR
VERSION:2.0
PRODID:-//Library Market//iCal Export//EN
BEGIN:VEVENT
SUMMARY:Minecraft Club
UID:36698
DTSTAMP:20260425T224900Z
DTSTART:20260702T213000Z
DTEND:20260702T223000Z
LOCATION:Verona Public Library, 500 Silent St., Verona, WI 53593, United S
 tates
ROOM: Community Room
DESCRIPTION:
URL:https://verona.librarycalendar.com/event/minecraft-club-36698
END:VEVENT
END:VCALENDAR
