BEGIN:VCALENDAR
VERSION:2.0
PRODID:-//Library Market//iCal Export//EN
BEGIN:VEVENT
SUMMARY:Minecraft Club
UID:36697
DTSTAMP:20260424T092900Z
DTSTART:20260604T213000Z
DTEND:20260604T223000Z
LOCATION:Verona Public Library, 500 Silent St., Verona, WI 53593, United S
 tates
ROOM: Community Room
DESCRIPTION:
URL:https://verona.librarycalendar.com/event/minecraft-club-36697
END:VEVENT
END:VCALENDAR
