BEGIN:VCALENDAR
VERSION:2.0
PRODID:-//Library Market//iCal Export//EN
BEGIN:VEVENT
SUMMARY:Summer Reading Kick-Off
UID:33270
DTSTAMP:20260424T040200Z
DTSTART:20260613T150000Z
DTEND:20260613T170000Z
LOCATION:Verona Public Library, 500 Silent St., Verona, WI 53593, United S
 tates
ROOM: Community Room
DESCRIPTION:For all ages.Celebrate the beginning of summer reading! Enjoy 
 ice cream sundaes, balloon twisting, a visit from a Verona fire truck and 
 more! Adults: come and pick up a fun piece of &quot;swag&quot; from the ad
 ult reading challenge table, and learn how to participate in this summer-l
 ong program!Sponsored by the Friends of the Verona Public Library.
URL:https://verona.librarycalendar.com/event/summer-reading-kick-33270
END:VEVENT
END:VCALENDAR
