BEGIN:VCALENDAR
VERSION:2.0
PRODID:-//Library Market//iCal Export//EN
BEGIN:VEVENT
SUMMARY:VASD Orchestra Winter Music Recital
UID:28453
DTSTAMP:20260419T092400Z
DTSTART:20251204T230000Z
DTEND:20251205T000000Z
LOCATION:Verona Public Library, 500 Silent St., Verona, WI 53593, United S
 tates
ROOM: Main Area
DESCRIPTION:Enjoy some festive sounds as soloists and small groups of Vero
 na Area High School music students perform music for the season!
URL:https://verona.librarycalendar.com/event/vasd-orchestra-winter-music-r
 ecital-28453
END:VEVENT
END:VCALENDAR
